BEGIN:VCALENDAR
VERSION:2.0
PRODID:icalendar-ruby
CALSCALE:GREGORIAN
METHOD:PUBLISH
BEGIN:VEVENT
DTSTAMP:20260421T153913Z
UID:97fa9de1-d211-49cd-95c4-4dfd3036e215
DTSTART:20260426T120000
DTEND:20260426T230000
DESCRIPTION:<h1><span>SUNDÄZE - CHRONICLE DEEP</span></h1><p><br></p><p><s
 trong>Deep House Sundäze </strong>lands at <strong>Origin</strong> ever
 y <strong>last Sunday of the month\, </strong>a courtyard day party dedic
 ated to proper <strong>deep house</strong>\, featuring <strong>internati
 onal guest artists</strong> alongside top <strong>Namibian support DJs</
 strong>.</p><p><br></p><p><strong>This Sunday\, 26th</strong>\, we welcome
  <strong>CHRONICLE  DEEP (South Africa)</strong> for an immersive deep-h
 ouse session from start to finish. Expect Origin’s immaculate vibe: <st
 rong>outdoor courtyard + bar</strong>\, <strong>cocktails</strong>\, <st
 rong>food</strong>\, and <strong>serious sound</strong>.</p><p><br></p>
LOCATION:4 Kepler Street\, Windhoek
SUMMARY:DEEP HOUSE SUNDÄZE Chronicle Deep
URL;VALUE=URI:https://namibrage.howler.co.za/DeepHouseSundays
END:VEVENT
END:VCALENDAR
