BEGIN:VCALENDAR
VERSION:2.0
PRODID:icalendar-ruby
CALSCALE:GREGORIAN
METHOD:PUBLISH
BEGIN:VEVENT
DTSTAMP:20260421T120533Z
UID:a6dae3df-b041-4e56-b0db-58cd98982217
DTSTART:20251227T120000
DTEND:20251227T230000
DESCRIPTION:<p><strong>Sound of Summer 2025 – 10 Years of Dance</strong><
 /p><p><br></p><p><span>Namibia’s biggest beach festival is back for its 
 10th anniversary edition! For a decade\, Sound of Summer has been the ulti
 mate end-of-year celebration\, uniting thousands of music lovers on the co
 ast with world-class DJs\, unforgettable performances\, and the best summe
 r vibes.</span></p><p><br></p><p><span>This year we’re turning it up wit
 h fresh talent\, iconic anthems\, and three massive stages powered by Coke
  Studio and Savanna. Expect sunsets over the ocean\, high-energy sets\, an
 d memories that will last long after the tide goes out. </span></p><p><br>
 </p><p><span>Join us as we celebrate </span><strong>10 years of dance\, m
 usic\, and magic by the sea. </strong></p><p><br></p>
LOCATION:Langstrand\, Walvis Bay\, Namibia
SUMMARY:Savanna Sound of Summer 2025
URL;VALUE=URI:https://namibrage.howler.co.za/soundofsummer2025
END:VEVENT
END:VCALENDAR
